Package: FinfoMDS Version: 0.99.2 Command: /home/biocbuild/bbs-3.22-bioc/R/bin/R CMD check --install=check:FinfoMDS.install-out.txt --library=/home/biocbuild/bbs-3.22-bioc/R/site-library --timings FinfoMDS_0.99.2.tar.gz StartedAt: 2025-10-22 23:54:10 -0400 (Wed, 22 Oct 2025) EndedAt: 2025-10-22 23:57:36 -0400 (Wed, 22 Oct 2025) EllapsedTime: 206.2 seconds RetCode: 0 Status: OK CheckDir: FinfoMDS.Rcheck Warnings: 0