Package: FinfoMDS Version: 0.99.2 Command: /Library/Frameworks/R.framework/Resources/bin/R CMD INSTALL FinfoMDS StartedAt: 2025-10-20 15:31:42 -0400 (Mon, 20 Oct 2025) EndedAt: 2025-10-20 15:32:09 -0400 (Mon, 20 Oct 2025) EllapsedTime: 26.5 seconds RetCode: 0 Status: OK