Package: FinfoMDS Version: 0.99.2 Command: /Library/Frameworks/R.framework/Resources/bin/R CMD check --install=check:FinfoMDS.install-out.txt --library=/Library/Frameworks/R.framework/Resources/library --no-vignettes --timings FinfoMDS_0.99.2.tar.gz StartedAt: 2025-10-20 22:20:09 -0400 (Mon, 20 Oct 2025) EndedAt: 2025-10-20 22:25:39 -0400 (Mon, 20 Oct 2025) EllapsedTime: 330.5 seconds RetCode: 0 Status: OK CheckDir: FinfoMDS.Rcheck Warnings: 0