Package: FinfoMDS Version: 0.99.2 Command: /Library/Frameworks/R.framework/Resources/bin/R CMD INSTALL FinfoMDS StartedAt: 2025-10-24 15:12:41 -0400 (Fri, 24 Oct 2025) EndedAt: 2025-10-24 15:12:48 -0400 (Fri, 24 Oct 2025) EllapsedTime: 7.8 seconds RetCode: 0 Status: OK