Package: FinfoMDS Version: 0.99.2 Command: /Library/Frameworks/R.framework/Resources/bin/R CMD check --install=check:FinfoMDS.install-out.txt --library=/Library/Frameworks/R.framework/Resources/library --no-vignettes --timings FinfoMDS_0.99.2.tar.gz StartedAt: 2025-10-24 19:46:06 -0400 (Fri, 24 Oct 2025) EndedAt: 2025-10-24 19:47:17 -0400 (Fri, 24 Oct 2025) EllapsedTime: 70.9 seconds RetCode: 0 Status: OK CheckDir: FinfoMDS.Rcheck Warnings: 0