Package: FinfoMDS Version: 0.99.2 Command: rm -rf FinfoMDS.buildbin-libdir && mkdir FinfoMDS.buildbin-libdir && /Users/biocbuild/BBS/utils/build-universal.sh FinfoMDS_0.99.2.tar.gz /Library/Frameworks/R.framework/Resources/bin/R FinfoMDS.buildbin-libdir StartedAt: 2025-10-24 23:02:58 -0400 (Fri, 24 Oct 2025) EndedAt: 2025-10-24 23:03:06 -0400 (Fri, 24 Oct 2025) EllapsedTime: 8.2 seconds RetCode: 0 Status: OK PackageFile: FinfoMDS_0.99.2.tgz PackageFileSize: 324.9 KiB