Package: FindIT2 Version: 1.15.1 Command: chmod a+r FindIT2 -R && F:\biocbuild\bbs-3.22-bioc\R\bin\R.exe CMD build --keep-empty-dirs --no-resave-data FindIT2 StartedAt: 2025-08-14 20:11:14 -0400 (Thu, 14 Aug 2025) EndedAt: 2025-08-14 20:13:44 -0400 (Thu, 14 Aug 2025) EllapsedTime: 150.3 seconds RetCode: 0 Status: OK PackageFile: FindIT2_1.15.1.tar.gz PackageFileSize: 1.421 MiB