Package: FastqCleaner Version: 1.27.0 Command: /home/biocbuild/bbs-3.22-bioc/R/bin/R CMD check --install=check:FastqCleaner.install-out.txt --library=/home/biocbuild/bbs-3.22-bioc/R/site-library --timings FastqCleaner_1.27.0.tar.gz StartedAt: 2025-10-21 23:49:40 -0400 (Tue, 21 Oct 2025) EndedAt: 2025-10-21 23:53:32 -0400 (Tue, 21 Oct 2025) EllapsedTime: 232.3 seconds RetCode: 0 Status: OK CheckDir: FastqCleaner.Rcheck Warnings: 0