Package: FastqCleaner Version: 1.27.0 Command: /Library/Frameworks/R.framework/Resources/bin/R CMD INSTALL FastqCleaner StartedAt: 2025-10-21 15:45:07 -0400 (Tue, 21 Oct 2025) EndedAt: 2025-10-21 15:46:08 -0400 (Tue, 21 Oct 2025) EllapsedTime: 61.0 seconds RetCode: 0 Status: OK