Package: FastqCleaner Version: 1.27.0 Command: /Library/Frameworks/R.framework/Resources/bin/R CMD build --keep-empty-dirs --no-resave-data FastqCleaner StartedAt: 2025-10-21 17:12:55 -0400 (Tue, 21 Oct 2025) EndedAt: 2025-10-21 17:15:00 -0400 (Tue, 21 Oct 2025) EllapsedTime: 124.7 seconds RetCode: 0 Status: OK PackageFile: FastqCleaner_1.27.0.tar.gz PackageFileSize: 4.356 MiB