Package: FamAgg Version: 1.38.0 Command: /Library/Frameworks/R.framework/Resources/bin/R CMD check --install=check:FamAgg.install-out.txt --library=/Library/Frameworks/R.framework/Resources/library --no-vignettes --timings FamAgg_1.38.0.tar.gz StartedAt: 2025-11-03 21:11:31 -0500 (Mon, 03 Nov 2025) EndedAt: 2025-11-03 21:14:36 -0500 (Mon, 03 Nov 2025) EllapsedTime: 185.3 seconds RetCode: 0 Status: OK CheckDir: FamAgg.Rcheck Warnings: 0