Package: FRGEpistasis Version: 1.46.0 Command: /home/biocbuild/R/R/bin/R CMD check --install=check:FRGEpistasis.install-out.txt --library=/home/biocbuild/R/R/site-library --no-vignettes --timings FRGEpistasis_1.46.0.tar.gz StartedAt: 2025-11-21 10:48:37 -0000 (Fri, 21 Nov 2025) EndedAt: 2025-11-21 10:50:56 -0000 (Fri, 21 Nov 2025) EllapsedTime: 139.1 seconds RetCode: 0 Status: OK CheckDir: FRGEpistasis.Rcheck Warnings: 0