Package: FRGEpistasis Version: 1.45.0 Command: /home/biocbuild/bbs-3.22-bioc/R/bin/R CMD INSTALL FRGEpistasis StartedAt: 2025-10-19 15:09:08 -0400 (Sun, 19 Oct 2025) EndedAt: 2025-10-19 15:09:41 -0400 (Sun, 19 Oct 2025) EllapsedTime: 33.7 seconds RetCode: 0 Status: OK