Package: FRGEpistasis Version: 1.45.0 Command: /home/biocbuild/bbs-3.22-bioc/R/bin/R CMD build --keep-empty-dirs --no-resave-data --md5 FRGEpistasis StartedAt: 2025-10-19 17:42:25 -0400 (Sun, 19 Oct 2025) EndedAt: 2025-10-19 17:42:37 -0400 (Sun, 19 Oct 2025) EllapsedTime: 12.0 seconds RetCode: 0 Status: OK PackageFile: FRGEpistasis_1.45.0.tar.gz PackageFileSize: 316 KiB