Package: FRGEpistasis Version: 1.45.0 Command: /Library/Frameworks/R.framework/Resources/bin/R CMD INSTALL FRGEpistasis StartedAt: 2025-10-19 15:11:43 -0400 (Sun, 19 Oct 2025) EndedAt: 2025-10-19 15:12:22 -0400 (Sun, 19 Oct 2025) EllapsedTime: 39.4 seconds RetCode: 0 Status: OK