Package: FRGEpistasis Version: 1.45.0 Command: /Library/Frameworks/R.framework/Resources/bin/R CMD build --keep-empty-dirs --no-resave-data FRGEpistasis StartedAt: 2025-10-19 17:15:12 -0400 (Sun, 19 Oct 2025) EndedAt: 2025-10-19 17:15:32 -0400 (Sun, 19 Oct 2025) EllapsedTime: 20.6 seconds RetCode: 0 Status: OK PackageFile: FRGEpistasis_1.45.0.tar.gz PackageFileSize: 314.8 KiB