Package: FRGEpistasis Version: 1.45.0 Command: rm -rf FRGEpistasis.buildbin-libdir && mkdir FRGEpistasis.buildbin-libdir && /Users/biocbuild/BBS/utils/build-universal.sh FRGEpistasis_1.45.0.tar.gz /Library/Frameworks/R.framework/Resources/bin/R FRGEpistasis.buildbin-libdir StartedAt: 2025-10-20 03:09:51 -0400 (Mon, 20 Oct 2025) EndedAt: 2025-10-20 03:10:04 -0400 (Mon, 20 Oct 2025) EllapsedTime: 13.0 seconds RetCode: 0 Status: OK PackageFile: FRGEpistasis_1.45.0.tgz PackageFileSize: 397.4 KiB