Package: FRGEpistasis Version: 1.45.0 Command: /Library/Frameworks/R.framework/Resources/bin/R CMD check --install=check:FRGEpistasis.install-out.txt --library=/Library/Frameworks/R.framework/Resources/library --no-vignettes --timings FRGEpistasis_1.45.0.tar.gz StartedAt: 2025-10-21 19:49:09 -0400 (Tue, 21 Oct 2025) EndedAt: 2025-10-21 19:49:54 -0400 (Tue, 21 Oct 2025) EllapsedTime: 44.6 seconds RetCode: 0 Status: OK CheckDir: FRGEpistasis.Rcheck Warnings: 0