Package: FRGEpistasis Version: 1.45.0 Command: /Library/Frameworks/R.framework/Resources/bin/R CMD build --keep-empty-dirs --no-resave-data FRGEpistasis StartedAt: 2025-10-19 16:24:55 -0400 (Sun, 19 Oct 2025) EndedAt: 2025-10-19 16:25:01 -0400 (Sun, 19 Oct 2025) EllapsedTime: 6.1 seconds RetCode: 0 Status: OK PackageFile: FRGEpistasis_1.45.0.tar.gz PackageFileSize: 314.9 KiB