Package: FLAMES Version: 2.4.1 Command: /home/biocbuild/bbs-3.22-bioc/R/bin/R CMD INSTALL FLAMES StartedAt: 2025-11-17 18:12:19 -0500 (Mon, 17 Nov 2025) EndedAt: 2025-11-17 18:14:19 -0500 (Mon, 17 Nov 2025) EllapsedTime: 119.9 seconds RetCode: 0 Status: OK