Package: FLAMES Version: 2.4.1 Command: /home/biocbuild/bbs-3.22-bioc/R/bin/R CMD build --keep-empty-dirs --no-resave-data --md5 FLAMES StartedAt: 2025-11-17 21:01:12 -0500 (Mon, 17 Nov 2025) EndedAt: 2025-11-17 21:03:12 -0500 (Mon, 17 Nov 2025) EllapsedTime: 120.2 seconds RetCode: 1 Status: ERROR PackageFile: None PackageFileSize: NA