Package: FLAMES Version: 2.4.1 Command: /Library/Frameworks/R.framework/Resources/bin/R CMD check --install=check:FLAMES.install-out.txt --library=/Library/Frameworks/R.framework/Resources/library --no-vignettes --timings FLAMES_2.4.1.tar.gz StartedAt: 2025-11-03 21:15:39 -0500 (Mon, 03 Nov 2025) EndedAt: 2025-11-03 21:41:00 -0500 (Mon, 03 Nov 2025) EllapsedTime: 1521.0 seconds RetCode: 0 Status: OK CheckDir: FLAMES.Rcheck Warnings: 0