Package: FLAMES Version: 2.4.1 Command: /Library/Frameworks/R.framework/Resources/bin/R CMD build --keep-empty-dirs --no-resave-data FLAMES StartedAt: 2025-11-10 16:24:34 -0500 (Mon, 10 Nov 2025) EndedAt: 2025-11-10 16:25:32 -0500 (Mon, 10 Nov 2025) EllapsedTime: 57.6 seconds RetCode: 0 Status: OK PackageFile: FLAMES_2.4.1.tar.gz PackageFileSize: 4.11 MiB