Package: FISHalyseR Version: 1.43.0 Command: /home/biocbuild/R/R/bin/R CMD INSTALL FISHalyseR StartedAt: 2025-10-20 20:23:53 -0000 (Mon, 20 Oct 2025) EndedAt: 2025-10-20 20:23:59 -0000 (Mon, 20 Oct 2025) EllapsedTime: 5.4 seconds RetCode: 0 Status: OK