Package: FISHalyseR Version: 1.43.0 Command: /home/biocbuild/R/R/bin/R CMD check --install=check:FISHalyseR.install-out.txt --library=/home/biocbuild/R/R/site-library --no-vignettes --timings FISHalyseR_1.43.0.tar.gz StartedAt: 2025-10-17 09:01:03 -0000 (Fri, 17 Oct 2025) EndedAt: 2025-10-17 09:01:58 -0000 (Fri, 17 Oct 2025) EllapsedTime: 54.1 seconds RetCode: 0 Status: WARNINGS CheckDir: FISHalyseR.Rcheck Warnings: 2