Package: FISHalyseR Version: 1.43.0 Command: /home/biocbuild/R/R/bin/R CMD build --keep-empty-dirs --no-resave-data FISHalyseR StartedAt: 2025-10-20 23:46:36 -0000 (Mon, 20 Oct 2025) EndedAt: 2025-10-20 23:46:57 -0000 (Mon, 20 Oct 2025) EllapsedTime: 21.0 seconds RetCode: 0 Status: OK PackageFile: FISHalyseR_1.43.0.tar.gz PackageFileSize: 778.6 KiB