Package: FISHalyseR Version: 1.43.0 Command: rm -rf FISHalyseR.buildbin-libdir && mkdir FISHalyseR.buildbin-libdir && F:\biocbuild\bbs-3.22-bioc\R\bin\R.exe CMD INSTALL --build --library=FISHalyseR.buildbin-libdir FISHalyseR_1.43.0.tar.gz StartedAt: 2025-08-15 10:16:33 -0400 (Fri, 15 Aug 2025) EndedAt: 2025-08-15 10:16:45 -0400 (Fri, 15 Aug 2025) EllapsedTime: 11.9 seconds RetCode: 0 Status: OK PackageFile: FISHalyseR_1.43.0.zip PackageFileSize: 833.9 KiB