Package: FISHalyseR Version: 1.43.0 Command: /home/biocbuild/bbs-3.22-bioc/R/bin/R CMD check --install=check:FISHalyseR.install-out.txt --library=/home/biocbuild/bbs-3.22-bioc/R/site-library --timings FISHalyseR_1.43.0.tar.gz StartedAt: 2025-10-20 23:48:37 -0400 (Mon, 20 Oct 2025) EndedAt: 2025-10-20 23:49:26 -0400 (Mon, 20 Oct 2025) EllapsedTime: 49.1 seconds RetCode: 0 Status: WARNINGS CheckDir: FISHalyseR.Rcheck Warnings: 2