Package: FISHalyseR Version: 1.43.0 Command: /Library/Frameworks/R.framework/Resources/bin/R CMD INSTALL FISHalyseR StartedAt: 2025-10-20 15:07:16 -0400 (Mon, 20 Oct 2025) EndedAt: 2025-10-20 15:07:18 -0400 (Mon, 20 Oct 2025) EllapsedTime: 2.1 seconds RetCode: 0 Status: OK