Package: FISHalyseR Version: 1.43.0 Command: /Library/Frameworks/R.framework/Resources/bin/R CMD check --install=check:FISHalyseR.install-out.txt --library=/Library/Frameworks/R.framework/Resources/library --no-vignettes --timings FISHalyseR_1.43.0.tar.gz StartedAt: 2025-10-20 19:43:55 -0400 (Mon, 20 Oct 2025) EndedAt: 2025-10-20 19:44:14 -0400 (Mon, 20 Oct 2025) EllapsedTime: 19.2 seconds RetCode: 0 Status: WARNINGS CheckDir: FISHalyseR.Rcheck Warnings: 2