Package: FISHalyseR Version: 1.43.0 Command: rm -rf FISHalyseR.buildbin-libdir && mkdir FISHalyseR.buildbin-libdir && /Users/biocbuild/BBS/utils/build-universal.sh FISHalyseR_1.43.0.tar.gz /Library/Frameworks/R.framework/Resources/bin/R FISHalyseR.buildbin-libdir StartedAt: 2025-10-20 23:00:25 -0400 (Mon, 20 Oct 2025) EndedAt: 2025-10-20 23:00:28 -0400 (Mon, 20 Oct 2025) EllapsedTime: 3.1 seconds RetCode: 0 Status: OK PackageFile: FISHalyseR_1.43.0.tgz PackageFileSize: 831 KiB