Package: FGNet Version: 3.44.0 Command: /home/biocbuild/R/R/bin/R CMD check --install=check:FGNet.install-out.txt --library=/home/biocbuild/R/R/site-library --no-vignettes --timings FGNet_3.44.0.tar.gz StartedAt: 2025-11-14 09:30:01 -0000 (Fri, 14 Nov 2025) EndedAt: 2025-11-14 09:31:10 -0000 (Fri, 14 Nov 2025) EllapsedTime: 68.1 seconds RetCode: 0 Status: WARNINGS CheckDir: FGNet.Rcheck Warnings: 1