Package: FGNet Version: 3.44.0 Command: /home/biocbuild/R/R/bin/R CMD build --keep-empty-dirs --no-resave-data FGNet StartedAt: 2025-11-14 01:48:55 -0000 (Fri, 14 Nov 2025) EndedAt: 2025-11-14 01:49:18 -0000 (Fri, 14 Nov 2025) EllapsedTime: 23.0 seconds RetCode: 0 Status: OK PackageFile: FGNet_3.44.0.tar.gz PackageFileSize: 2.744 MiB