Package: FGNet Version: 3.44.0 Command: /home/biocbuild/bbs-3.22-bioc/R/bin/R CMD check --install=check:FGNet.install-out.txt --library=/home/biocbuild/bbs-3.22-bioc/R/site-library --timings FGNet_3.44.0.tar.gz StartedAt: 2025-11-14 23:46:18 -0500 (Fri, 14 Nov 2025) EndedAt: 2025-11-14 23:47:32 -0500 (Fri, 14 Nov 2025) EllapsedTime: 74.1 seconds RetCode: 0 Status: WARNINGS CheckDir: FGNet.Rcheck Warnings: 1