Package: FGNet Version: 3.44.0 Command: /home/biocbuild/bbs-3.22-bioc/R/bin/R CMD build --keep-empty-dirs --no-resave-data --md5 FGNet StartedAt: 2025-11-13 17:41:48 -0500 (Thu, 13 Nov 2025) EndedAt: 2025-11-13 17:42:04 -0500 (Thu, 13 Nov 2025) EllapsedTime: 16.0 seconds RetCode: 0 Status: OK PackageFile: FGNet_3.44.0.tar.gz PackageFileSize: 2.724 MiB