Package: FGNet Version: 3.44.0 Command: /Library/Frameworks/R.framework/Resources/bin/R CMD build --keep-empty-dirs --no-resave-data FGNet StartedAt: 2025-11-10 16:24:07 -0500 (Mon, 10 Nov 2025) EndedAt: 2025-11-10 16:24:15 -0500 (Mon, 10 Nov 2025) EllapsedTime: 8.1 seconds RetCode: 0 Status: OK PackageFile: FGNet_3.44.0.tar.gz PackageFileSize: 2.721 MiB