Package: FGNet Version: 3.44.0 Command: rm -rf FGNet.buildbin-libdir && mkdir FGNet.buildbin-libdir && /Users/biocbuild/BBS/utils/build-universal.sh FGNet_3.44.0.tar.gz /Library/Frameworks/R.framework/Resources/bin/R FGNet.buildbin-libdir StartedAt: 2025-11-10 23:20:01 -0500 (Mon, 10 Nov 2025) EndedAt: 2025-11-10 23:20:05 -0500 (Mon, 10 Nov 2025) EllapsedTime: 4.1 seconds RetCode: 0 Status: OK PackageFile: FGNet_3.44.0.tgz PackageFileSize: 1.692 MiB