Package: FGNet Version: 3.44.0 Maintainer: Sara Aibar MaintainerEmail: saibar at usal.es git_url: https://git.bioconductor.org/packages/FGNet git_branch: RELEASE_3_22 git_last_commit: 30b9e81 git_last_commit_date: 2025-10-29 10:17:02 -0500 (Wed, 29 Oct 2025)