Package: FELLA Version: 1.29.0 Command: /Library/Frameworks/R.framework/Resources/bin/R CMD INSTALL FELLA StartedAt: 2025-10-08 15:19:20 -0400 (Wed, 08 Oct 2025) EndedAt: 2025-10-08 15:19:27 -0400 (Wed, 08 Oct 2025) EllapsedTime: 6.6 seconds RetCode: 0 Status: OK