Package: FELLA Version: 1.29.0 Command: /Library/Frameworks/R.framework/Resources/bin/R CMD build --keep-empty-dirs --no-resave-data FELLA StartedAt: 2025-10-09 16:22:45 -0400 (Thu, 09 Oct 2025) EndedAt: 2025-10-09 16:33:39 -0400 (Thu, 09 Oct 2025) EllapsedTime: 654.0 seconds RetCode: 1 Status: ERROR PackageFile: None PackageFileSize: NA