Package: ExpressionAtlas Version: 2.2.0 Command: /home/biocbuild/R/R/bin/R CMD INSTALL ExpressionAtlas StartedAt: 2025-11-13 22:03:31 -0000 (Thu, 13 Nov 2025) EndedAt: 2025-11-13 22:04:02 -0000 (Thu, 13 Nov 2025) EllapsedTime: 30.7 seconds RetCode: 0 Status: OK