Package: ExpressionAtlas Version: 2.2.0 Command: /Library/Frameworks/R.framework/Resources/bin/R CMD INSTALL ExpressionAtlas StartedAt: 2025-11-03 15:45:18 -0500 (Mon, 03 Nov 2025) EndedAt: 2025-11-03 15:45:50 -0500 (Mon, 03 Nov 2025) EllapsedTime: 32.0 seconds RetCode: 0 Status: OK