Package: ExpressionAtlas Version: 2.2.0 Command: /Library/Frameworks/R.framework/Resources/bin/R CMD build --keep-empty-dirs --no-resave-data ExpressionAtlas StartedAt: 2025-11-03 17:00:09 -0500 (Mon, 03 Nov 2025) EndedAt: 2025-11-03 17:00:47 -0500 (Mon, 03 Nov 2025) EllapsedTime: 38.8 seconds RetCode: 0 Status: OK PackageFile: ExpressionAtlas_2.2.0.tar.gz PackageFileSize: 319 KiB