Package: ExpressionAtlas Version: 2.2.0 Maintainer: Anil Thanki MaintainerEmail: anilthanki at ebi.ac.uk git_url: https://git.bioconductor.org/packages/ExpressionAtlas git_branch: RELEASE_3_22 git_last_commit: 6dde6ba git_last_commit_date: 2025-10-29 10:30:04 -0500 (Wed, 29 Oct 2025)