Package: ExploreModelMatrix Version: 1.21.2 Command: /home/biocbuild/R/R/bin/R CMD INSTALL ExploreModelMatrix StartedAt: 2025-10-20 20:24:38 -0000 (Mon, 20 Oct 2025) EndedAt: 2025-10-20 20:24:50 -0000 (Mon, 20 Oct 2025) EllapsedTime: 12.1 seconds RetCode: 0 Status: OK