Package: ExploreModelMatrix Version: 1.21.0 Command: F:\biocbuild\bbs-3.22-bioc\R\bin\R.exe CMD check --no-multiarch --install=check:ExploreModelMatrix.install-out.txt --library=F:\biocbuild\bbs-3.22-bioc\R\library --no-vignettes --timings ExploreModelMatrix_1.21.0.tar.gz StartedAt: 2025-08-15 03:09:56 -0400 (Fri, 15 Aug 2025) EndedAt: 2025-08-15 03:11:45 -0400 (Fri, 15 Aug 2025) EllapsedTime: 108.8 seconds RetCode: 0 Status: OK CheckDir: ExploreModelMatrix.Rcheck Warnings: 0