Package: ExploreModelMatrix Version: 1.21.2 Command: /Library/Frameworks/R.framework/Resources/bin/R CMD INSTALL ExploreModelMatrix StartedAt: 2025-10-19 15:16:22 -0400 (Sun, 19 Oct 2025) EndedAt: 2025-10-19 15:16:35 -0400 (Sun, 19 Oct 2025) EllapsedTime: 13.2 seconds RetCode: 0 Status: OK