Package: ExploreModelMatrix Version: 1.21.2 Command: /Library/Frameworks/R.framework/Resources/bin/R CMD build --keep-empty-dirs --no-resave-data ExploreModelMatrix StartedAt: 2025-10-19 16:21:48 -0400 (Sun, 19 Oct 2025) EndedAt: 2025-10-19 16:21:56 -0400 (Sun, 19 Oct 2025) EllapsedTime: 8.1 seconds RetCode: 0 Status: OK PackageFile: ExploreModelMatrix_1.21.2.tar.gz PackageFileSize: 2.61 MiB