Package: ExploreModelMatrix Version: 1.21.2 Maintainer: Charlotte Soneson MaintainerEmail: charlottesoneson at gmail.com git_url: https://git.bioconductor.org/packages/ExploreModelMatrix git_branch: devel git_last_commit: 2c34b72 git_last_commit_date: 2025-10-07 11:46:16 -0400 (Tue, 07 Oct 2025)