Package: ExperimentSubset Version: 1.19.0 Command: /Library/Frameworks/R.framework/Resources/bin/R CMD check --install=check:ExperimentSubset.install-out.txt --library=/Library/Frameworks/R.framework/Resources/library --no-vignettes --timings ExperimentSubset_1.19.0.tar.gz StartedAt: 2025-10-16 23:02:03 -0400 (Thu, 16 Oct 2025) EndedAt: 2025-10-16 23:09:49 -0400 (Thu, 16 Oct 2025) EllapsedTime: 466.2 seconds RetCode: 0 Status: OK CheckDir: ExperimentSubset.Rcheck Warnings: 0